BEGIN:VCALENDAR
VERSION:2.0
PRODID:-//ReConstitution - ECPv6.15.11//NONSGML v1.0//EN
CALSCALE:GREGORIAN
METHOD:PUBLISH
X-ORIGINAL-URL:https://reconstitution-asso.fr
X-WR-CALDESC:Évènements pour ReConstitution
REFRESH-INTERVAL;VALUE=DURATION:PT1H
X-Robots-Tag:noindex
X-PUBLISHED-TTL:PT1H
BEGIN:VTIMEZONE
TZID:Europe/Paris
BEGIN:DAYLIGHT
TZOFFSETFROM:+0100
TZOFFSETTO:+0200
TZNAME:CEST
DTSTART:20240331T010000
END:DAYLIGHT
BEGIN:STANDARD
TZOFFSETFROM:+0200
TZOFFSETTO:+0100
TZNAME:CET
DTSTART:20241027T010000
END:STANDARD
BEGIN:DAYLIGHT
TZOFFSETFROM:+0100
TZOFFSETTO:+0200
TZNAME:CEST
DTSTART:20250330T010000
END:DAYLIGHT
BEGIN:STANDARD
TZOFFSETFROM:+0200
TZOFFSETTO:+0100
TZNAME:CET
DTSTART:20251026T010000
END:STANDARD
BEGIN:DAYLIGHT
TZOFFSETFROM:+0100
TZOFFSETTO:+0200
TZNAME:CEST
DTSTART:20260329T010000
END:DAYLIGHT
BEGIN:STANDARD
TZOFFSETFROM:+0200
TZOFFSETTO:+0100
TZNAME:CET
DTSTART:20261025T010000
END:STANDARD
END:VTIMEZONE
BEGIN:VEVENT
DTSTART;TZID=Europe/Paris:20250920T103000
DTEND;TZID=Europe/Paris:20250920T120000
DTSTAMP:20260422T193610
CREATED:20250829T160031Z
LAST-MODIFIED:20250915T204100Z
UID:4489-1758364200-1758369600@reconstitution-asso.fr
SUMMARY:Réunion d'accueil - Paris centre
DESCRIPTION:Vous souhaitez rencontrer des personnes de ReConstitution pour vous renseigner et peut-être participer ? \n\n\n\nInscrivez-vous à cette réunion et nous vous enverrons l’adresse au plus tard 48 heures avant la réunion. \n\n\n\nSi vous n’êtes pas sur Paris ou que vous ne pouvez pas venir à ce moment-là\, écrivez-nous pour demander une visioconférence ou une autre date !
URL:https://reconstitution-asso.fr/agenda/test-reunion-de-presentation-et-daccueil/
CATEGORIES:Réunions d'accueil
END:VEVENT
END:VCALENDAR