BEGIN:VCALENDAR
VERSION:2.0
PRODID:-//ReConstitution - ECPv6.15.11//NONSGML v1.0//EN
CALSCALE:GREGORIAN
METHOD:PUBLISH
X-WR-CALNAME:ReConstitution
X-ORIGINAL-URL:https://reconstitution-asso.fr
X-WR-CALDESC:Évènements pour ReConstitution
REFRESH-INTERVAL;VALUE=DURATION:PT1H
X-Robots-Tag:noindex
X-PUBLISHED-TTL:PT1H
BEGIN:VTIMEZONE
TZID:Europe/Paris
BEGIN:DAYLIGHT
TZOFFSETFROM:+0100
TZOFFSETTO:+0200
TZNAME:CEST
DTSTART:20250330T010000
END:DAYLIGHT
BEGIN:STANDARD
TZOFFSETFROM:+0200
TZOFFSETTO:+0100
TZNAME:CET
DTSTART:20251026T010000
END:STANDARD
BEGIN:DAYLIGHT
TZOFFSETFROM:+0100
TZOFFSETTO:+0200
TZNAME:CEST
DTSTART:20260329T010000
END:DAYLIGHT
BEGIN:STANDARD
TZOFFSETFROM:+0200
TZOFFSETTO:+0100
TZNAME:CET
DTSTART:20261025T010000
END:STANDARD
BEGIN:DAYLIGHT
TZOFFSETFROM:+0100
TZOFFSETTO:+0200
TZNAME:CEST
DTSTART:20270328T010000
END:DAYLIGHT
BEGIN:STANDARD
TZOFFSETFROM:+0200
TZOFFSETTO:+0100
TZNAME:CET
DTSTART:20271031T010000
END:STANDARD
END:VTIMEZONE
BEGIN:VEVENT
DTSTART;TZID=Europe/Paris:20260106T200000
DTEND;TZID=Europe/Paris:20260106T210000
DTSTAMP:20260422T134502
CREATED:20251211T202834Z
LAST-MODIFIED:20251211T203058Z
UID:5328-1767729600-1767733200@reconstitution-asso.fr
SUMMARY:Réunion publique – Visio-conférence d’accueil
DESCRIPTION:Vous souhaitez rencontrer des personnes de ReConstitution pour vous renseigner et peut-être participer ? \n\n\n\nInscrivez-vous à cette réunion et nous vous enverrons le lien de visio-conférence au plus tard 24 heures avant la réunion. \n\n\n\nSi vous ne pouvez à ce moment-là\, écrivez-nous pour demander une visioconférence à une autre date !
URL:https://reconstitution-asso.fr/agenda/reunion-publique-visio-conference-daccueil-2/
CATEGORIES:Réunions d'accueil
END:VEVENT
BEGIN:VEVENT
DTSTART;TZID=Europe/Paris:20260113T200000
DTEND;TZID=Europe/Paris:20260113T210000
DTSTAMP:20260422T134502
CREATED:20251211T203234Z
LAST-MODIFIED:20260115T114920Z
UID:5332-1768334400-1768338000@reconstitution-asso.fr
SUMMARY:Réunion publique d'accueil – en Visio
DESCRIPTION:Vous souhaitez rencontrer des personnes de ReConstitution pour vous renseigner et peut-être participer ? \n\n\n\nInscrivez-vous à cette réunion et nous vous enverrons le lien de visio-conférence au plus tard 24 heures avant la réunion. \n\n\n\nSi vous ne pouvez à ce moment-là\, écrivez-nous pour demander une visioconférence à une autre date !
URL:https://reconstitution-asso.fr/agenda/reunion-publique-visio-conference-daccueil-3/
CATEGORIES:Réunions d'accueil
END:VEVENT
BEGIN:VEVENT
DTSTART;TZID=Europe/Paris:20260120T200000
DTEND;TZID=Europe/Paris:20260120T210000
DTSTAMP:20260422T134502
CREATED:20251211T203524Z
LAST-MODIFIED:20260115T114855Z
UID:5334-1768939200-1768942800@reconstitution-asso.fr
SUMMARY:Réunion publique d'accueil – en Visio
DESCRIPTION:Vous souhaitez rencontrer des personnes de ReConstitution pour vous renseigner et peut-être participer ? \n\n\n\nInscrivez-vous à cette réunion et nous vous enverrons le lien de visio-conférence au plus tard 24 heures avant la réunion. \n\n\n\nSi vous ne pouvez à ce moment-là\, écrivez-nous pour demander une visioconférence à une autre date !
URL:https://reconstitution-asso.fr/agenda/reunion-publique-visio-conference-daccueil-4/
CATEGORIES:Réunions d'accueil
END:VEVENT
BEGIN:VEVENT
DTSTART;TZID=Europe/Paris:20260127T200000
DTEND;TZID=Europe/Paris:20260127T210000
DTSTAMP:20260422T134502
CREATED:20251211T203808Z
LAST-MODIFIED:20260115T115040Z
UID:5337-1769544000-1769547600@reconstitution-asso.fr
SUMMARY:Réunion publique d'accueil – en Visio
DESCRIPTION:Vous souhaitez rencontrer des personnes de ReConstitution pour vous renseigner et peut-être participer ? \n\n\n\nInscrivez-vous à cette réunion et nous vous enverrons le lien de visio-conférence au plus tard 24 heures avant la réunion. \n\n\n\nSi vous ne pouvez à ce moment-là\, écrivez-nous pour demander une visioconférence à une autre date !
URL:https://reconstitution-asso.fr/agenda/reunion-publique-visio-conference-daccueil-5/
CATEGORIES:Réunions d'accueil
END:VEVENT
END:VCALENDAR